Package: baySeq Version: 2.44.0 Command: /Library/Frameworks/R.framework/Resources/bin/R CMD INSTALL baySeq StartedAt: 2025-11-03 15:21:51 -0500 (Mon, 03 Nov 2025) EndedAt: 2025-11-03 15:22:18 -0500 (Mon, 03 Nov 2025) EllapsedTime: 27.2 seconds RetCode: 0 Status: OK