Package: baySeq Version: 2.44.0 Command: /Library/Frameworks/R.framework/Resources/bin/R CMD build --keep-empty-dirs --no-resave-data baySeq StartedAt: 2025-11-03 16:08:59 -0500 (Mon, 03 Nov 2025) EndedAt: 2025-11-03 16:15:41 -0500 (Mon, 03 Nov 2025) EllapsedTime: 402.1 seconds RetCode: 0 Status: OK PackageFile: baySeq_2.44.0.tar.gz PackageFileSize: 1.123 MiB