Package: baySeq Version: 2.44.0 Command: rm -rf baySeq.buildbin-libdir && mkdir baySeq.buildbin-libdir && /Users/biocbuild/BBS/utils/build-universal.sh baySeq_2.44.0.tar.gz /Library/Frameworks/R.framework/Resources/bin/R baySeq.buildbin-libdir StartedAt: 2025-11-04 01:28:54 -0500 (Tue, 04 Nov 2025) EndedAt: 2025-11-04 01:29:18 -0500 (Tue, 04 Nov 2025) EllapsedTime: 24.0 seconds RetCode: 0 Status: OK PackageFile: baySeq_2.44.0.tgz PackageFileSize: 1.605 MiB