Package: baySeq Version: 2.43.0 Command: /Library/Frameworks/R.framework/Resources/bin/R CMD INSTALL baySeq StartedAt: 2025-10-24 15:13:26 -0400 (Fri, 24 Oct 2025) EndedAt: 2025-10-24 15:13:33 -0400 (Fri, 24 Oct 2025) EllapsedTime: 6.9 seconds RetCode: 0 Status: OK