Package: baySeq Version: 2.43.0 Command: /Library/Frameworks/R.framework/Resources/bin/R CMD build --keep-empty-dirs --no-resave-data baySeq StartedAt: 2025-10-24 15:46:18 -0400 (Fri, 24 Oct 2025) EndedAt: 2025-10-24 15:48:18 -0400 (Fri, 24 Oct 2025) EllapsedTime: 120.4 seconds RetCode: 0 Status: OK PackageFile: baySeq_2.43.0.tar.gz PackageFileSize: 1.124 MiB