Package: baySeq Version: 2.43.0 Command: rm -rf baySeq.buildbin-libdir && mkdir baySeq.buildbin-libdir && /Users/biocbuild/BBS/utils/build-universal.sh baySeq_2.43.0.tar.gz /Library/Frameworks/R.framework/Resources/bin/R baySeq.buildbin-libdir StartedAt: 2025-10-24 22:54:57 -0400 (Fri, 24 Oct 2025) EndedAt: 2025-10-24 22:55:05 -0400 (Fri, 24 Oct 2025) EllapsedTime: 8.1 seconds RetCode: 0 Status: OK PackageFile: baySeq_2.43.0.tgz PackageFileSize: 1.611 MiB