Package: batchelor Version: 1.25.0 Command: /home/biocbuild/bbs-3.22-bioc/R/bin/R CMD build --keep-empty-dirs --no-resave-data --md5 batchelor StartedAt: 2025-10-27 16:22:42 -0400 (Mon, 27 Oct 2025) EndedAt: 2025-10-27 16:25:57 -0400 (Mon, 27 Oct 2025) EllapsedTime: 195.1 seconds RetCode: 0 Status: OK PackageFile: batchelor_1.25.0.tar.gz PackageFileSize: 1.953 MiB