Package: batchelor Version: 1.25.0 Command: /Library/Frameworks/R.framework/Resources/bin/R CMD build --keep-empty-dirs --no-resave-data batchelor StartedAt: 2025-10-24 15:45:19 -0400 (Fri, 24 Oct 2025) EndedAt: 2025-10-24 15:46:38 -0400 (Fri, 24 Oct 2025) EllapsedTime: 79.9 seconds RetCode: 0 Status: OK PackageFile: batchelor_1.25.0.tar.gz PackageFileSize: 2.102 MiB