Package: batchCorr Version: 1.0.0 Command: /home/biocbuild/R/R/bin/R CMD INSTALL batchCorr StartedAt: 2025-11-13 21:29:01 -0000 (Thu, 13 Nov 2025) EndedAt: 2025-11-13 21:29:28 -0000 (Thu, 13 Nov 2025) EllapsedTime: 27.4 seconds RetCode: 0 Status: OK