Package: batchCorr Version: 0.99.8 Command: /home/biocbuild/bbs-3.22-bioc/R/bin/R CMD INSTALL batchCorr StartedAt: 2025-10-24 15:32:02 -0400 (Fri, 24 Oct 2025) EndedAt: 2025-10-24 15:32:23 -0400 (Fri, 24 Oct 2025) EllapsedTime: 21.1 seconds RetCode: 0 Status: OK