Package: batchCorr Version: 0.99.8 Command: /Library/Frameworks/R.framework/Resources/bin/R CMD INSTALL batchCorr StartedAt: 2025-10-24 15:30:15 -0400 (Fri, 24 Oct 2025) EndedAt: 2025-10-24 15:30:45 -0400 (Fri, 24 Oct 2025) EllapsedTime: 30.2 seconds RetCode: 0 Status: OK