Package: batchCorr Version: 0.99.8 Command: /Library/Frameworks/R.framework/Resources/bin/R CMD build --keep-empty-dirs --no-resave-data batchCorr StartedAt: 2025-10-24 16:12:50 -0400 (Fri, 24 Oct 2025) EndedAt: 2025-10-24 16:15:25 -0400 (Fri, 24 Oct 2025) EllapsedTime: 154.9 seconds RetCode: 0 Status: OK PackageFile: batchCorr_0.99.8.tar.gz PackageFileSize: 900.5 KiB