Package: batchCorr Version: 0.99.8 Command: rm -rf batchCorr.buildbin-libdir && mkdir batchCorr.buildbin-libdir && /Users/biocbuild/BBS/utils/build-universal.sh batchCorr_0.99.8.tar.gz /Library/Frameworks/R.framework/Resources/bin/R batchCorr.buildbin-libdir StartedAt: 2025-10-25 01:28:52 -0400 (Sat, 25 Oct 2025) EndedAt: 2025-10-25 01:29:23 -0400 (Sat, 25 Oct 2025) EllapsedTime: 31.2 seconds RetCode: 0 Status: OK PackageFile: batchCorr_0.99.8.tgz PackageFileSize: 976.4 KiB