Package: basilisk Version: 1.21.5 Command: /home/biocbuild/R/R/bin/R CMD INSTALL basilisk StartedAt: 2025-10-23 20:29:19 -0000 (Thu, 23 Oct 2025) EndedAt: 2025-10-23 20:29:46 -0000 (Thu, 23 Oct 2025) EllapsedTime: 26.4 seconds RetCode: 0 Status: OK