Package: basilisk Version: 1.21.5 Command: /home/biocbuild/R/R/bin/R CMD build --keep-empty-dirs --no-resave-data basilisk StartedAt: 2025-10-20 21:56:41 -0000 (Mon, 20 Oct 2025) EndedAt: 2025-10-20 21:57:41 -0000 (Mon, 20 Oct 2025) EllapsedTime: 60.0 seconds RetCode: 0 Status: OK PackageFile: basilisk_1.21.5.tar.gz PackageFileSize: 287.2 KiB