Package: basilisk.utils Version: 1.21.2 Command: /home/biocbuild/bbs-3.22-bioc/R/bin/R CMD check --install=check:basilisk.utils.install-out.txt --library=/home/biocbuild/bbs-3.22-bioc/R/site-library --timings basilisk.utils_1.21.2.tar.gz StartedAt: 2025-10-24 21:24:27 -0400 (Fri, 24 Oct 2025) EndedAt: 2025-10-24 21:25:59 -0400 (Fri, 24 Oct 2025) EllapsedTime: 92.1 seconds RetCode: 0 Status: OK CheckDir: basilisk.utils.Rcheck Warnings: 0