Package: basilisk.utils Version: 1.21.2 Command: /Library/Frameworks/R.framework/Resources/bin/R CMD build --keep-empty-dirs --no-resave-data basilisk.utils StartedAt: 2025-10-24 16:12:44 -0400 (Fri, 24 Oct 2025) EndedAt: 2025-10-24 16:12:52 -0400 (Fri, 24 Oct 2025) EllapsedTime: 8.0 seconds RetCode: 0 Status: OK PackageFile: basilisk.utils_1.21.2.tar.gz PackageFileSize: 229 KiB