Package: basilisk.utils Version: 1.21.2 Command: /Library/Frameworks/R.framework/Resources/bin/R CMD INSTALL basilisk.utils StartedAt: 2025-10-24 15:05:13 -0400 (Fri, 24 Oct 2025) EndedAt: 2025-10-24 15:05:17 -0400 (Fri, 24 Oct 2025) EllapsedTime: 3.2 seconds RetCode: 0 Status: OK