Package: basilisk.utils Version: 1.21.2 Command: /Library/Frameworks/R.framework/Resources/bin/R CMD check --install=check:basilisk.utils.install-out.txt --library=/Library/Frameworks/R.framework/Resources/library --no-vignettes --timings basilisk.utils_1.21.2.tar.gz StartedAt: 2025-10-24 18:35:33 -0400 (Fri, 24 Oct 2025) EndedAt: 2025-10-24 18:36:38 -0400 (Fri, 24 Oct 2025) EllapsedTime: 64.8 seconds RetCode: 0 Status: OK CheckDir: basilisk.utils.Rcheck Warnings: 0