Package: basecallQC Version: 1.33.0 Command: /home/biocbuild/bbs-3.22-bioc/R/bin/R CMD INSTALL basecallQC StartedAt: 2025-10-24 16:02:24 -0400 (Fri, 24 Oct 2025) EndedAt: 2025-10-24 16:03:17 -0400 (Fri, 24 Oct 2025) EllapsedTime: 53.6 seconds RetCode: 0 Status: OK