Package: basecallQC Version: 1.34.0 Command: /Library/Frameworks/R.framework/Resources/bin/R CMD INSTALL basecallQC StartedAt: 2025-11-10 15:27:10 -0500 (Mon, 10 Nov 2025) EndedAt: 2025-11-10 15:27:31 -0500 (Mon, 10 Nov 2025) EllapsedTime: 20.8 seconds RetCode: 0 Status: OK