Package: basecallQC Version: 1.34.0 Command: /Library/Frameworks/R.framework/Resources/bin/R CMD build --keep-empty-dirs --no-resave-data basecallQC StartedAt: 2025-11-10 15:41:43 -0500 (Mon, 10 Nov 2025) EndedAt: 2025-11-10 15:42:18 -0500 (Mon, 10 Nov 2025) EllapsedTime: 35.3 seconds RetCode: 0 Status: OK PackageFile: basecallQC_1.34.0.tar.gz PackageFileSize: 1.526 MiB