Package: basecallQC Version: 1.34.0 Command: rm -rf basecallQC.buildbin-libdir && mkdir basecallQC.buildbin-libdir && /Users/biocbuild/BBS/utils/build-universal.sh basecallQC_1.34.0.tar.gz /Library/Frameworks/R.framework/Resources/bin/R basecallQC.buildbin-libdir StartedAt: 2025-11-10 23:11:54 -0500 (Mon, 10 Nov 2025) EndedAt: 2025-11-10 23:12:16 -0500 (Mon, 10 Nov 2025) EllapsedTime: 22.4 seconds RetCode: 0 Status: OK PackageFile: basecallQC_1.34.0.tgz PackageFileSize: 1.261 MiB