Package: barbieQ Version: 1.2.0 Command: /home/biocbuild/bbs-3.22-bioc/R/bin/R CMD INSTALL barbieQ StartedAt: 2025-10-30 15:21:45 -0400 (Thu, 30 Oct 2025) EndedAt: 2025-10-30 15:22:18 -0400 (Thu, 30 Oct 2025) EllapsedTime: 32.8 seconds RetCode: 0 Status: OK