Package: barbieQ Version: 1.2.0 Command: /home/biocbuild/bbs-3.22-bioc/R/bin/R CMD build --keep-empty-dirs --no-resave-data --md5 barbieQ StartedAt: 2025-10-29 22:36:40 -0400 (Wed, 29 Oct 2025) EndedAt: 2025-10-29 22:42:12 -0400 (Wed, 29 Oct 2025) EllapsedTime: 332.3 seconds RetCode: 0 Status: OK PackageFile: barbieQ_1.2.0.tar.gz PackageFileSize: 4.172 MiB