Package: bamsignals Version: 1.42.0 Command: /home/biocbuild/bbs-3.22-bioc/R/bin/R CMD INSTALL bamsignals StartedAt: 2025-11-25 15:41:24 -0500 (Tue, 25 Nov 2025) EndedAt: 2025-11-25 15:41:44 -0500 (Tue, 25 Nov 2025) EllapsedTime: 19.6 seconds RetCode: 0 Status: OK