Package: bacon Version: 1.37.0 Command: /home/biocbuild/bbs-3.22-bioc/R/bin/R CMD INSTALL bacon StartedAt: 2025-10-24 15:18:13 -0400 (Fri, 24 Oct 2025) EndedAt: 2025-10-24 15:18:23 -0400 (Fri, 24 Oct 2025) EllapsedTime: 10.2 seconds RetCode: 0 Status: OK