Package: bacon Version: 1.38.0 Command: rm -rf bacon.buildbin-libdir && mkdir bacon.buildbin-libdir && /Users/biocbuild/BBS/utils/build-universal.sh bacon_1.38.0.tar.gz /Library/Frameworks/R.framework/Resources/bin/R bacon.buildbin-libdir StartedAt: 2025-11-04 22:55:11 -0500 (Tue, 04 Nov 2025) EndedAt: 2025-11-04 22:55:15 -0500 (Tue, 04 Nov 2025) EllapsedTime: 4.1 seconds RetCode: 0 Status: OK PackageFile: bacon_1.38.0.tgz PackageFileSize: 2.274 MiB