Package: autonomics Version: 1.17.16 Command: /home/biocbuild/bbs-3.22-bioc/R/bin/R CMD INSTALL autonomics StartedAt: 2025-10-27 15:25:28 -0400 (Mon, 27 Oct 2025) EndedAt: 2025-10-27 15:26:09 -0400 (Mon, 27 Oct 2025) EllapsedTime: 41.5 seconds RetCode: 0 Status: OK