Package: autonomics Version: 1.17.16 Command: /home/biocbuild/bbs-3.22-bioc/R/bin/R CMD build --keep-empty-dirs --no-resave-data --md5 autonomics StartedAt: 2025-10-27 16:18:17 -0400 (Mon, 27 Oct 2025) EndedAt: 2025-10-27 16:20:31 -0400 (Mon, 27 Oct 2025) EllapsedTime: 134.1 seconds RetCode: 0 Status: OK PackageFile: autonomics_1.17.16.tar.gz PackageFileSize: 2.47 MiB