Package: atena Version: 1.15.2 Command: /home/biocbuild/bbs-3.22-bioc/R/bin/R CMD INSTALL atena StartedAt: 2025-10-24 15:49:56 -0400 (Fri, 24 Oct 2025) EndedAt: 2025-10-24 15:50:37 -0400 (Fri, 24 Oct 2025) EllapsedTime: 41.4 seconds RetCode: 0 Status: OK