Package: atSNP Version: 1.25.0 Command: /home/biocbuild/bbs-3.22-bioc/R/bin/R CMD INSTALL atSNP StartedAt: 2025-10-24 16:03:57 -0400 (Fri, 24 Oct 2025) EndedAt: 2025-10-24 16:04:57 -0400 (Fri, 24 Oct 2025) EllapsedTime: 59.7 seconds RetCode: 0 Status: OK