Package: atSNP Version: 1.25.0 Command: /home/biocbuild/bbs-3.22-bioc/R/bin/R CMD build --keep-empty-dirs --no-resave-data --md5 atSNP StartedAt: 2025-10-24 16:25:27 -0400 (Fri, 24 Oct 2025) EndedAt: 2025-10-24 16:26:48 -0400 (Fri, 24 Oct 2025) EllapsedTime: 81.0 seconds RetCode: 0 Status: OK PackageFile: atSNP_1.25.0.tar.gz PackageFileSize: 960.7 KiB