Package: assorthead Version: 1.3.13 Command: /home/biocbuild/bbs-3.22-bioc/R/bin/R CMD INSTALL assorthead StartedAt: 2025-10-24 15:12:38 -0400 (Fri, 24 Oct 2025) EndedAt: 2025-10-24 15:12:46 -0400 (Fri, 24 Oct 2025) EllapsedTime: 8.1 seconds RetCode: 0 Status: OK