Package: assorthead Version: 1.3.13 Command: /home/biocbuild/bbs-3.22-bioc/R/bin/R CMD build --keep-empty-dirs --no-resave-data --md5 assorthead StartedAt: 2025-10-24 16:25:17 -0400 (Fri, 24 Oct 2025) EndedAt: 2025-10-24 16:25:23 -0400 (Fri, 24 Oct 2025) EllapsedTime: 6.0 seconds RetCode: 0 Status: OK PackageFile: assorthead_1.3.13.tar.gz PackageFileSize: 1.822 MiB