Package: artMS Version: 1.27.0 Command: /home/biocbuild/bbs-3.22-bioc/R/bin/R CMD build --keep-empty-dirs --no-resave-data --md5 artMS StartedAt: 2025-10-24 16:24:25 -0400 (Fri, 24 Oct 2025) EndedAt: 2025-10-24 16:25:20 -0400 (Fri, 24 Oct 2025) EllapsedTime: 55.1 seconds RetCode: 0 Status: OK PackageFile: artMS_1.27.0.tar.gz PackageFileSize: 3.987 MiB