Package: arrayQualityMetrics Version: 3.65.0 Command: /home/biocbuild/R/R/bin/R CMD check --install=check:arrayQualityMetrics.install-out.txt --library=/home/biocbuild/R/R/site-library --no-vignettes --timings arrayQualityMetrics_3.65.0.tar.gz StartedAt: 2025-10-21 04:31:44 -0000 (Tue, 21 Oct 2025) EndedAt: 2025-10-21 04:35:06 -0000 (Tue, 21 Oct 2025) EllapsedTime: 202.2 seconds RetCode: 0 Status: OK CheckDir: arrayQualityMetrics.Rcheck Warnings: 0