Package: arrayQualityMetrics Version: 3.65.0 Command: /home/biocbuild/R/R/bin/R CMD build --keep-empty-dirs --no-resave-data arrayQualityMetrics StartedAt: 2025-10-20 21:44:28 -0000 (Mon, 20 Oct 2025) EndedAt: 2025-10-20 21:51:30 -0000 (Mon, 20 Oct 2025) EllapsedTime: 422.1 seconds RetCode: 0 Status: OK PackageFile: arrayQualityMetrics_3.65.0.tar.gz PackageFileSize: 583.2 KiB