Package: arrayQualityMetrics Version: 3.65.0 Command: /home/biocbuild/bbs-3.22-bioc/R/bin/R CMD INSTALL arrayQualityMetrics StartedAt: 2025-10-24 15:40:34 -0400 (Fri, 24 Oct 2025) EndedAt: 2025-10-24 15:40:59 -0400 (Fri, 24 Oct 2025) EllapsedTime: 25.1 seconds RetCode: 0 Status: OK