Package: arrayQualityMetrics Version: 3.65.0 Command: /home/biocbuild/bbs-3.22-bioc/R/bin/R CMD check --install=check:arrayQualityMetrics.install-out.txt --library=/home/biocbuild/bbs-3.22-bioc/R/site-library --timings arrayQualityMetrics_3.65.0.tar.gz StartedAt: 2025-10-24 21:13:16 -0400 (Fri, 24 Oct 2025) EndedAt: 2025-10-24 21:22:29 -0400 (Fri, 24 Oct 2025) EllapsedTime: 553.0 seconds RetCode: 0 Status: OK CheckDir: arrayQualityMetrics.Rcheck Warnings: 0