Package: arrayQualityMetrics Version: 3.65.0 Command: /home/biocbuild/bbs-3.22-bioc/R/bin/R CMD build --keep-empty-dirs --no-resave-data --md5 arrayQualityMetrics StartedAt: 2025-10-24 16:23:46 -0400 (Fri, 24 Oct 2025) EndedAt: 2025-10-24 16:30:15 -0400 (Fri, 24 Oct 2025) EllapsedTime: 388.3 seconds RetCode: 0 Status: OK PackageFile: arrayQualityMetrics_3.65.0.tar.gz PackageFileSize: 598.5 KiB