Package: arrayQualityMetrics Version: 3.65.0 Command: /Library/Frameworks/R.framework/Resources/bin/R CMD INSTALL arrayQualityMetrics StartedAt: 2025-10-24 15:34:55 -0400 (Fri, 24 Oct 2025) EndedAt: 2025-10-24 15:35:30 -0400 (Fri, 24 Oct 2025) EllapsedTime: 35.2 seconds RetCode: 0 Status: OK