Package: arrayQualityMetrics Version: 3.65.0 Command: /Library/Frameworks/R.framework/Resources/bin/R CMD build --keep-empty-dirs --no-resave-data arrayQualityMetrics StartedAt: 2025-10-24 16:08:58 -0400 (Fri, 24 Oct 2025) EndedAt: 2025-10-24 16:17:09 -0400 (Fri, 24 Oct 2025) EllapsedTime: 490.6 seconds RetCode: 0 Status: OK PackageFile: arrayQualityMetrics_3.65.0.tar.gz PackageFileSize: 595.1 KiB