Package: arrayQualityMetrics Version: 3.65.0 Command: /Library/Frameworks/R.framework/Resources/bin/R CMD INSTALL arrayQualityMetrics StartedAt: 2025-10-26 15:16:21 -0400 (Sun, 26 Oct 2025) EndedAt: 2025-10-26 15:16:32 -0400 (Sun, 26 Oct 2025) EllapsedTime: 11.2 seconds RetCode: 0 Status: OK