Package: arrayQualityMetrics Version: 3.65.0 Command: /Library/Frameworks/R.framework/Resources/bin/R CMD check --install=check:arrayQualityMetrics.install-out.txt --library=/Library/Frameworks/R.framework/Resources/library --no-vignettes --timings arrayQualityMetrics_3.65.0.tar.gz StartedAt: 2025-10-27 18:28:05 -0400 (Mon, 27 Oct 2025) EndedAt: 2025-10-27 18:29:07 -0400 (Mon, 27 Oct 2025) EllapsedTime: 61.7 seconds RetCode: 0 Status: OK CheckDir: arrayQualityMetrics.Rcheck Warnings: 0