Package: arrayQuality Version: 1.87.0 Command: /home/biocbuild/R/R/bin/R CMD INSTALL arrayQuality StartedAt: 2025-10-23 20:19:53 -0000 (Thu, 23 Oct 2025) EndedAt: 2025-10-23 20:20:27 -0000 (Thu, 23 Oct 2025) EllapsedTime: 33.8 seconds RetCode: 0 Status: OK