Package: arrayQuality Version: 1.87.0 Command: /Library/Frameworks/R.framework/Resources/bin/R CMD build --keep-empty-dirs --no-resave-data arrayQuality StartedAt: 2025-10-24 16:08:58 -0400 (Fri, 24 Oct 2025) EndedAt: 2025-10-24 16:09:08 -0400 (Fri, 24 Oct 2025) EllapsedTime: 10.3 seconds RetCode: 0 Status: OK PackageFile: arrayQuality_1.87.0.tar.gz PackageFileSize: 12.82 MiB