Package: arrayQuality Version: 1.87.0 Command: /Library/Frameworks/R.framework/Resources/bin/R CMD INSTALL arrayQuality StartedAt: 2025-10-24 15:05:15 -0400 (Fri, 24 Oct 2025) EndedAt: 2025-10-24 15:05:20 -0400 (Fri, 24 Oct 2025) EllapsedTime: 4.6 seconds RetCode: 0 Status: OK