Package: arrayQuality Version: 1.88.0 Command: /Library/Frameworks/R.framework/Resources/bin/R CMD check --install=check:arrayQuality.install-out.txt --library=/Library/Frameworks/R.framework/Resources/library --no-vignettes --timings arrayQuality_1.88.0.tar.gz StartedAt: 2025-10-31 18:32:39 -0400 (Fri, 31 Oct 2025) EndedAt: 2025-10-31 18:32:57 -0400 (Fri, 31 Oct 2025) EllapsedTime: 18.2 seconds RetCode: 0 Status: WARNINGS CheckDir: arrayQuality.Rcheck Warnings: 1