Package: arrayMvout Version: 1.67.0 Command: /home/biocbuild/R/R/bin/R CMD INSTALL arrayMvout StartedAt: 2025-10-23 21:27:22 -0000 (Thu, 23 Oct 2025) EndedAt: 2025-10-23 21:28:20 -0000 (Thu, 23 Oct 2025) EllapsedTime: 57.2 seconds RetCode: 0 Status: OK